BEGIN:VCALENDAR
VERSION:2.0
PRODID:-//Bundesanstalt Technisches Hilfswerk Ortsverband Brilon - ECPv4.8.1//NONSGML v1.0//EN
CALSCALE:GREGORIAN
METHOD:PUBLISH
X-WR-CALNAME:Bundesanstalt Technisches Hilfswerk Ortsverband Brilon
X-ORIGINAL-URL:https://thw-brilon.de
X-WR-CALDESC:Veranstaltungen für Bundesanstalt Technisches Hilfswerk Ortsverband Brilon
BEGIN:VEVENT
DTSTART;TZID=UTC+1:20200305T183000
DTEND;TZID=UTC+1:20200305T220000
DTSTAMP:20260420T195535
CREATED:20200302T233134Z
LAST-MODIFIED:20200302T233134Z
UID:707-1583433000-1583445600@thw-brilon.de
SUMMARY:AB Tagung
DESCRIPTION:
URL:https://thw-brilon.de/termin/ab-tagung/
END:VEVENT
END:VCALENDAR