BEGIN:VCALENDAR
VERSION:2.0
PRODID:-//Bundesanstalt Technisches Hilfswerk Ortsverband Brilon - ECPv4.8.1//NONSGML v1.0//EN
CALSCALE:GREGORIAN
METHOD:PUBLISH
X-WR-CALNAME:Bundesanstalt Technisches Hilfswerk Ortsverband Brilon
X-ORIGINAL-URL:https://thw-brilon.de
X-WR-CALDESC:Veranstaltungen für Bundesanstalt Technisches Hilfswerk Ortsverband Brilon
BEGIN:VEVENT
DTSTART;TZID=UTC+1:20210625T160000
DTEND;TZID=UTC+1:20210627T160000
DTSTAMP:20260420T212938
CREATED:20210622T105055Z
LAST-MODIFIED:20210622T105055Z
UID:764-1624636800-1624809600@thw-brilon.de
SUMMARY:Aufbauübung Feldlager Betrieb BR 500West
DESCRIPTION:Am Wochenende vom 25.06.2021 bis zum 27:06.2021 findet im Ortsverband Brilon eine Aufbauübung für die Stellen des Bereich Betrieb Feldlager des BR 500 West statt. \nEs werden die Stellen Führungsstelle Betrieb \, Belegung \, Parkplatz und Material aufgebaut und eingerichtet. Weiterhin wird die vorhandene Ausstattung gesichtet erfasst und final auf die Anhänger BR 500 West verlastet. \n
URL:https://thw-brilon.de/termin/aufbauuebung-feldlager-betrieb-br-500west/
LOCATION:Bundesanstalt Technisches Hilfswerk Ortsverband Brilon\, Freiladestraße 13\, Brilon\, Nordrhein-Westfalen\, 59929
END:VEVENT
END:VCALENDAR