BEGIN:VCALENDAR
VERSION:2.0
PRODID:-//Bundesanstalt Technisches Hilfswerk Ortsverband Brilon - ECPv4.8.1//NONSGML v1.0//EN
CALSCALE:GREGORIAN
METHOD:PUBLISH
X-WR-CALNAME:Bundesanstalt Technisches Hilfswerk Ortsverband Brilon
X-ORIGINAL-URL:https://thw-brilon.de
X-WR-CALDESC:Veranstaltungen für Bundesanstalt Technisches Hilfswerk Ortsverband Brilon
BEGIN:VEVENT
DTSTART;TZID=UTC+1:20220319T080000
DTEND;TZID=UTC+1:20220319T170000
DTSTAMP:20260419T155356
CREATED:20220315T102756Z
LAST-MODIFIED:20220315T102756Z
UID:805-1647676800-1647709200@thw-brilon.de
SUMMARY:Ausbildungsdienst
DESCRIPTION:
URL:https://thw-brilon.de/termin/ausbildungsdienst-2/
LOCATION:Dienst\, Hinterm Gallberg13\, Brilon\, NRW\, 59929
END:VEVENT
END:VCALENDAR