BEGIN:VCALENDAR
VERSION:2.0
PRODID:-//Bundesanstalt Technisches Hilfswerk Ortsverband Brilon - ECPv4.8.1//NONSGML v1.0//EN
CALSCALE:GREGORIAN
METHOD:PUBLISH
X-WR-CALNAME:Bundesanstalt Technisches Hilfswerk Ortsverband Brilon
X-ORIGINAL-URL:https://thw-brilon.de
X-WR-CALDESC:Veranstaltungen für Bundesanstalt Technisches Hilfswerk Ortsverband Brilon
BEGIN:VEVENT
DTSTART;VALUE=DATE:20210710
DTEND;VALUE=DATE:20210711
DTSTAMP:20260420T014137
CREATED:20210622T111003Z
LAST-MODIFIED:20210622T111003Z
UID:766-1625875200-1625961599@thw-brilon.de
SUMMARY:Erste Hilfe Kurs
DESCRIPTION:Erste Hilfe Kurs für die Helfer des THW Brilon \n
URL:https://thw-brilon.de/termin/erste-hilfe-kurs/
END:VEVENT
END:VCALENDAR