BEGIN:VCALENDAR
VERSION:2.0
PRODID:-//Bundesanstalt Technisches Hilfswerk Ortsverband Brilon - ECPv4.8.1//NONSGML v1.0//EN
CALSCALE:GREGORIAN
METHOD:PUBLISH
X-WR-CALNAME:Bundesanstalt Technisches Hilfswerk Ortsverband Brilon
X-ORIGINAL-URL:https://thw-brilon.de
X-WR-CALDESC:Veranstaltungen für Bundesanstalt Technisches Hilfswerk Ortsverband Brilon
BEGIN:VEVENT
DTSTART;TZID=UTC+1:20230929T190000
DTEND;TZID=UTC+1:20230930T190000
DTSTAMP:20260419T223005
CREATED:20230916T130953Z
LAST-MODIFIED:20230916T130953Z
UID:1428-1696014000-1696100400@thw-brilon.de
SUMMARY:Funkkurs Grundausbildung
DESCRIPTION:
URL:https://thw-brilon.de/termin/funkkurs-grundausbildung/
END:VEVENT
END:VCALENDAR