BEGIN:VCALENDAR
VERSION:2.0
PRODID:-//Bundesanstalt Technisches Hilfswerk Ortsverband Brilon - ECPv4.8.1//NONSGML v1.0//EN
CALSCALE:GREGORIAN
METHOD:PUBLISH
X-WR-CALNAME:Bundesanstalt Technisches Hilfswerk Ortsverband Brilon
X-ORIGINAL-URL:https://thw-brilon.de
X-WR-CALDESC:Veranstaltungen für Bundesanstalt Technisches Hilfswerk Ortsverband Brilon
BEGIN:VEVENT
DTSTART;TZID=UTC+1:20260620T080000
DTEND;TZID=UTC+1:20260620T180000
DTSTAMP:20260421T080953
CREATED:20260419T095557Z
LAST-MODIFIED:20260419T095557Z
UID:1845-1781942400-1781978400@thw-brilon.de
SUMMARY:Komm gerne vorbei und lern uns kennen!
DESCRIPTION:
URL:https://thw-brilon.de/termin/komm-gerne-vorbei-und-lern-uns-kennen-3/
END:VEVENT
END:VCALENDAR