BEGIN:VCALENDAR
VERSION:2.0
PRODID:-//Bundesanstalt Technisches Hilfswerk Ortsverband Brilon - ECPv4.8.1//NONSGML v1.0//EN
CALSCALE:GREGORIAN
METHOD:PUBLISH
X-WR-CALNAME:Bundesanstalt Technisches Hilfswerk Ortsverband Brilon
X-ORIGINAL-URL:https://thw-brilon.de
X-WR-CALDESC:Veranstaltungen für Bundesanstalt Technisches Hilfswerk Ortsverband Brilon
BEGIN:VEVENT
DTSTART;TZID=UTC+1:20260704T080000
DTEND;TZID=UTC+1:20260704T180000
DTSTAMP:20260420T212940
CREATED:20260419T095626Z
LAST-MODIFIED:20260419T095626Z
UID:1847-1783152000-1783188000@thw-brilon.de
SUMMARY:Komm gerne vorbei und lern uns kennen!
DESCRIPTION:
URL:https://thw-brilon.de/termin/komm-gerne-vorbei-und-lern-uns-kennen-4/
END:VEVENT
END:VCALENDAR