BEGIN:VCALENDAR
VERSION:2.0
PRODID:-//Bundesanstalt Technisches Hilfswerk Ortsverband Brilon - ECPv4.8.1//NONSGML v1.0//EN
CALSCALE:GREGORIAN
METHOD:PUBLISH
X-WR-CALNAME:Bundesanstalt Technisches Hilfswerk Ortsverband Brilon
X-ORIGINAL-URL:https://thw-brilon.de
X-WR-CALDESC:Veranstaltungen für Bundesanstalt Technisches Hilfswerk Ortsverband Brilon
BEGIN:VEVENT
DTSTART;TZID=UTC+1:20260718T080000
DTEND;TZID=UTC+1:20260718T180000
DTSTAMP:20260420T110402
CREATED:20260419T100812Z
LAST-MODIFIED:20260419T100812Z
UID:1855-1784361600-1784397600@thw-brilon.de
SUMMARY:Komm gerne vorbei und lern uns kennen!
DESCRIPTION:
URL:https://thw-brilon.de/termin/komm-gerne-vorbei-und-lern-uns-kennen-5/
END:VEVENT
END:VCALENDAR