BEGIN:VCALENDAR
VERSION:2.0
PRODID:-//Bundesanstalt Technisches Hilfswerk Ortsverband Brilon - ECPv4.8.1//NONSGML v1.0//EN
CALSCALE:GREGORIAN
METHOD:PUBLISH
X-WR-CALNAME:Bundesanstalt Technisches Hilfswerk Ortsverband Brilon
X-ORIGINAL-URL:https://thw-brilon.de
X-WR-CALDESC:Veranstaltungen für Bundesanstalt Technisches Hilfswerk Ortsverband Brilon
BEGIN:VEVENT
DTSTART;TZID=UTC+1:20200328T090000
DTEND;TZID=UTC+1:20200328T180000
DTSTAMP:20260420T221428
CREATED:20181111T191659Z
LAST-MODIFIED:20200302T232553Z
UID:576-1585386000-1585418400@thw-brilon.de
SUMMARY:THW Dienst
DESCRIPTION:
URL:https://thw-brilon.de/termin/thw-dienst-13/
LOCATION:Dienst\, Hinterm Gallberg13\, Brilon\, NRW\, 59929
END:VEVENT
END:VCALENDAR