BEGIN:VCALENDAR
VERSION:2.0
PRODID:-//Bundesanstalt Technisches Hilfswerk Ortsverband Brilon - ECPv4.8.1//NONSGML v1.0//EN
CALSCALE:GREGORIAN
METHOD:PUBLISH
X-WR-CALNAME:Bundesanstalt Technisches Hilfswerk Ortsverband Brilon
X-ORIGINAL-URL:https://thw-brilon.de
X-WR-CALDESC:Veranstaltungen für Bundesanstalt Technisches Hilfswerk Ortsverband Brilon
BEGIN:VEVENT
DTSTART;TZID=UTC+1:20190202T090000
DTEND;TZID=UTC+1:20190202T180000
DTSTAMP:20260423T200442
CREATED:20181111T190647Z
LAST-MODIFIED:20181111T190647Z
UID:558-1549098000-1549130400@thw-brilon.de
SUMMARY:THW Dienst
DESCRIPTION:
URL:https://thw-brilon.de/termin/thw-dienst-4/
LOCATION:Dienst\, Hinterm Gallberg13\, Brilon\, NRW\, 59929
END:VEVENT
END:VCALENDAR