BEGIN:VCALENDAR
VERSION:2.0
PRODID:-//Bundesanstalt Technisches Hilfswerk Ortsverband Brilon - ECPv4.8.1//NONSGML v1.0//EN
CALSCALE:GREGORIAN
METHOD:PUBLISH
X-WR-CALNAME:Bundesanstalt Technisches Hilfswerk Ortsverband Brilon
X-ORIGINAL-URL:https://thw-brilon.de
X-WR-CALDESC:Veranstaltungen für Bundesanstalt Technisches Hilfswerk Ortsverband Brilon
BEGIN:VEVENT
DTSTART;TZID=UTC+1:20260514T080000
DTEND;TZID=UTC+1:20260517T150000
DTSTAMP:20260420T133714
CREATED:20260419T095145Z
LAST-MODIFIED:20260419T095145Z
UID:1836-1778745600-1779030000@thw-brilon.de
SUMMARY:Übungswochenende
DESCRIPTION:
URL:https://thw-brilon.de/termin/uebungswochenende/
END:VEVENT
END:VCALENDAR