BEGIN:VCALENDAR
VERSION:2.0
PRODID:-//Bundesanstalt Technisches Hilfswerk Ortsverband Brilon - ECPv4.8.1//NONSGML v1.0//EN
CALSCALE:GREGORIAN
METHOD:PUBLISH
X-WR-CALNAME:Bundesanstalt Technisches Hilfswerk Ortsverband Brilon
X-ORIGINAL-URL:https://thw-brilon.de
X-WR-CALDESC:Veranstaltungen für Bundesanstalt Technisches Hilfswerk Ortsverband Brilon
BEGIN:VEVENT
DTSTART;TZID=UTC+1:20260425T090000
DTEND;TZID=UTC+1:20260425T180000
DTSTAMP:20260419T221443
CREATED:20260419T094412Z
LAST-MODIFIED:20260419T095420Z
UID:1831-1777107600-1777140000@thw-brilon.de
SUMMARY:Komm gerne vorbei und lern uns kennen!
DESCRIPTION:allgemeiner Dienst \n
URL:https://thw-brilon.de/termin/dienst-tz-6/
END:VEVENT
END:VCALENDAR